BEGIN:VCALENDAR
VERSION:2.0
PRODID:-//Squarespace Inc/Squarespace 6//v6//EN
BEGIN:VEVENT
UID:563c5c53e4b0f91d990310b2@squarespace.com
DTSTAMP:20151204T201641Z
DTSTART:20151128T200000Z
DTEND:20151128T230000Z
SUMMARY:Christmas Cake Decorating
GEO:-41.270909;173.282247
LOCATION:Impact Christian Church Nelson\, 16-18 Halifax Street East\, Nelso
 n\, Nelson\, 7010\, New Zealand
END:VEVENT
END:VCALENDAR
