BEGIN:VCALENDAR
VERSION:2.0
PRODID:-//Squarespace Inc/Squarespace 6//v6//EN
BEGIN:VEVENT
UID:5661f304e4b0fd56e698b8a0@squarespace.com
DTSTAMP:20151204T201654Z
DTSTART:20151211T190000Z
DTEND:20151211T230000Z
SUMMARY:Garage Sale
GEO:-41.270909;173.282247
LOCATION:Impact Christian Church Nelson\, 16-18 Halifax Street East\, Nelso
 n\, Nelson\, 7010\, New Zealand
END:VEVENT
END:VCALENDAR
