BEGIN:VCALENDAR
VERSION:2.0
PRODID:-//Squarespace Inc/Squarespace 6//v6//EN
BEGIN:VEVENT
UID:563c5d1fe4b03fd23ffb19bd@squarespace.com
DTSTAMP:20151204T201615Z
DTSTART:20151205T230000Z
DTEND:20151206T020000Z
SUMMARY:Impact Church Banquet
GEO:-41.270909;173.282247
LOCATION:Impact Christian Church Nelson\, 16-18 Halifax Street East\, Nelso
 n\, Nelson\, 7010\, New Zealand
END:VEVENT
END:VCALENDAR
