BEGIN:VCALENDAR
VERSION:2.0
PRODID:-//Squarespace Inc/Squarespace 6//v6//EN
BEGIN:VEVENT
UID:5652ca5fe4b083936d53d846@squarespace.com
DTSTAMP:20151204T201628Z
DTSTART:20151206T150000Z
DTEND:20151206T170000Z
SUMMARY:Kids Service
GEO:-41.270909;173.282247
LOCATION:Impact Christian Church Nelson\, 16-18 Halifax Street East\, Nelso
 n\, Nelson\, 7010\, New Zealand
END:VEVENT
END:VCALENDAR
