BEGIN:VCALENDAR
VERSION:2.0
PRODID:-//Squarespace Inc/Squarespace 6//v6//EN
BEGIN:VEVENT
UID:55cdc51ee4b07457fe019730@squarespace.com
DTSTAMP:20150814T104551Z
DTSTART:20150821T110000Z
DTEND:20150823T120000Z
SUMMARY:Promise Keepers Christchurch
GEO:-43.53449;172.571653
LOCATION:La Vida Centre\, 34a Hansons Lane\, Cristchurch\, New Zealand
END:VEVENT
END:VCALENDAR
