BEGIN:VCALENDAR
VERSION:2.0
PRODID:-//Squarespace Inc/Squarespace 6//v6//EN
BEGIN:VEVENT
UID:56b7c12a2eeb81542b1bce61@squarespace.com
DTSTAMP:20160207T221339Z
DTSTART:20160212T183000Z
DTEND:20160212T200000Z
SUMMARY:Monthly Mens Breakfast
END:VEVENT
END:VCALENDAR
