BEGIN:VCALENDAR
VERSION:2.0
PRODID:-//Squarespace Inc/Squarespace 6//v6//EN
BEGIN:VEVENT
UID:56b7bcbf60b5e97d1679e16e@squarespace.com
DTSTAMP:20160207T221010Z
DTSTART:20160213T060000Z
DTEND:20160213T080000Z
SUMMARY:WAR ROOM
END:VEVENT
END:VCALENDAR
